BEGIN:VCALENDAR
VERSION:2.0
PRODID:-//wp-events-plugin.com//7.2.3.1//EN
TZID:America/Los_Angeles
X-WR-TIMEZONE:America/Los_Angeles
BEGIN:VEVENT
UID:17324@kmun.org
DTSTART;TZID=America/Los_Angeles:20260505T173000
DTEND;TZID=America/Los_Angeles:20260505T183000
DTSTAMP:20260422T165656Z
URL:https://kmun.org/events/crafty-reader-book-club-5/
SUMMARY:Crafty Reader Book Club
DESCRIPTION:On Tuesday\, May 5th 2026 starting at 5:30pm the Seaside Public
  Library will hold our monthly “Crafty Reader Book Club” in the Commun
 ity Room. The idea is pretty simple. Step 1. Read a book (any book!). Step
  2. Find a craft project (any project!). Step 3. Come join us the first Tu
 esday evening of each month to discuss either (or neither!) with some new 
 friends! Hope to see you there.
CATEGORIES:Public Events
LOCATION:Seaside Public Library\, 1131 Broadway Street\, Seaside\, Oregon\,
  United States
GEO:45.9931184;-123.91635889999998
X-APPLE-STRUCTURED-LOCATION;VALUE=URI;X-ADDRESS=1131 Broadway Street\, Seas
 ide\, Oregon\, United States;X-APPLE-RADIUS=100;X-TITLE=Seaside Public Lib
 rary:geo:45.9931184,-123.91635889999998
END:VEVENT
BEGIN:VTIMEZONE
TZID:America/Los_Angeles
X-LIC-LOCATION:America/Los_Angeles
BEGIN:DAYLIGHT
DTSTART:20260308T030000
TZOFFSETFROM:-0800
TZOFFSETTO:-0700
TZNAME:PDT
END:DAYLIGHT
END:VTIMEZONE
END:VCALENDAR