BEGIN:VCALENDAR
VERSION:2.0
PRODID:-//wp-events-plugin.com//7.2.3.1//EN
TZID:America/Los_Angeles
X-WR-TIMEZONE:America/Los_Angeles
BEGIN:VEVENT
UID:17315@kmun.org
DTSTART;TZID=America/Los_Angeles:20260517T123000
DTEND;TZID=America/Los_Angeles:20260517T143000
DTSTAMP:20260422T173139Z
URL:https://kmun.org/events/community-forum-addressing-youth-homelessness-
 in-astoria-and-clatsop-county/
SUMMARY:Community Forum: Addressing Youth Homelessness in Astoria and Clats
 op County
DESCRIPTION:Join us for an important community conversation about youth hom
 elessness. Together\, we can explore solutions\, share resources\, and bui
 ld a supportive network for vulnerable young people.\nA panel of guests fr
 om the Oregon Legislature\, school districts and local community groups wi
 ll be featured.
ATTACH;FMTTYPE=image/jpeg:https://kmun.org/wp-content/uploads/2026/04/Yout
 h-Homelessness-Forum-May-2026.png
CATEGORIES:Public Events
LOCATION:Peace First Lutheran Church\, 725 33rd Street\, ASTORIA\, OR\, 971
 03\, uppertown\, United States
X-APPLE-STRUCTURED-LOCATION;VALUE=URI;X-ADDRESS=725 33rd Street\, ASTORIA\,
  OR\, 97103\, uppertown\, United States;X-APPLE-RADIUS=100;X-TITLE=Peace F
 irst Lutheran Church:geo:0,0
END:VEVENT
BEGIN:VTIMEZONE
TZID:America/Los_Angeles
X-LIC-LOCATION:America/Los_Angeles
BEGIN:DAYLIGHT
DTSTART:20260308T030000
TZOFFSETFROM:-0800
TZOFFSETTO:-0700
TZNAME:PDT
END:DAYLIGHT
END:VTIMEZONE
END:VCALENDAR