BEGIN:VCALENDAR
VERSION:2.0
PRODID:-//wp-events-plugin.com//7.2.3.1//EN
TZID:America/Los_Angeles
X-WR-TIMEZONE:America/Los_Angeles
BEGIN:VEVENT
UID:14987@kmun.org
DTSTART;TZID=America/Los_Angeles:20250329T190000
DTEND;TZID=America/Los_Angeles:20250329T210000
DTSTAMP:20250313T181441Z
URL:https://kmun.org/events/community-concert-the-minntah-quintet/
SUMMARY:Community Concert "The Minntah Quintet"
DESCRIPTION:Part of a seasonal concert series at Cargo\, "The Minntah Quart
 et" will be performing a community concert celebrating spring. Please come
  and join Minntah Haefker\, Brent Follis\, Clay Giberson\, Shawn Wang\, an
 d a surprise soloist for a delightful evening of jazz at Cargo March 29th.
CATEGORIES:Public Events
LOCATION:Cargo\, 241 11th St\, Astoria\, OR\, United States
X-APPLE-STRUCTURED-LOCATION;VALUE=URI;X-ADDRESS=241 11th St\, Astoria\, OR\
 , United States;X-APPLE-RADIUS=100;X-TITLE=Cargo:geo:0,0
END:VEVENT
BEGIN:VTIMEZONE
TZID:America/Los_Angeles
X-LIC-LOCATION:America/Los_Angeles
BEGIN:DAYLIGHT
DTSTART:20250309T030000
TZOFFSETFROM:-0800
TZOFFSETTO:-0700
TZNAME:PDT
END:DAYLIGHT
END:VTIMEZONE
END:VCALENDAR