BEGIN:VCALENDAR
VERSION:2.0
PRODID:-//wp-events-plugin.com//7.2.3.1//EN
TZID:America/Los_Angeles
X-WR-TIMEZONE:America/Los_Angeles
BEGIN:VEVENT
UID:17352@kmun.org
DTSTART;TZID=America/Los_Angeles:20260509T100000
DTEND;TZID=America/Los_Angeles:20260509T140000
DTSTAMP:20260422T183737Z
URL:https://kmun.org/events/clatskanie-spring-market-2/
SUMMARY:Clatskanie Spring Market
DESCRIPTION:Celebrate the start of the growing season at the Clatskanie Spr
 ing Market! Join us on Saturday\, May 9th from 10:00am to 2:00pm for a liv
 ely day filled with plant starts\, seedlings\, early season produce\, hand
 made goods\, and live music.\nThis special spring market is the perfect pl
 ace to stock up on garden starts\, connect with local farmers and makers\,
  and enjoy the fresh energy of the season as our community gathers again a
 round local food and handmade craft.\nWe’re also excited to welcome the 
 Clatskanie Garden Club’s annual plant sale\, a beloved local tradition a
 nd a great opportunity to pick up unique plants and garden favorites while
  supporting the Garden Club’s work in the community.\nCome browse the ma
 rket\, meet your farmers\, and take home everything you need to start your
  garden and welcome spring.\nBrunch will be available inside the Clatskani
 e Food Hub\, featuring seasonal dishes made with ingredients from our loca
 l producers. Stop in for a cozy meal\, a cup of coffee or tea\, and a plac
 e to gather with friends and neighbors.\n
CATEGORIES:Public Events
LOCATION:Clatskanie Spring Market\, 80 Art Steele St\, Clatskanie\, OR\, 
X-APPLE-STRUCTURED-LOCATION;VALUE=URI;X-ADDRESS=80 Art Steele St\, Clatskan
 ie\, OR\, ;X-APPLE-RADIUS=100;X-TITLE=Clatskanie Spring Market:geo:0,0
END:VEVENT
BEGIN:VTIMEZONE
TZID:America/Los_Angeles
X-LIC-LOCATION:America/Los_Angeles
BEGIN:DAYLIGHT
DTSTART:20260308T030000
TZOFFSETFROM:-0800
TZOFFSETTO:-0700
TZNAME:PDT
END:DAYLIGHT
END:VTIMEZONE
END:VCALENDAR