BEGIN:VCALENDAR
VERSION:2.0
PRODID:-//wp-events-plugin.com//7.2.3.1//EN
TZID:America/Los_Angeles
X-WR-TIMEZONE:America/Los_Angeles
BEGIN:VEVENT
UID:17253@kmun.org
DTSTART;TZID=America/Los_Angeles:20260412T170000
DTEND;TZID=America/Los_Angeles:20260412T190000
DTSTAMP:20260408T171720Z
URL:https://kmun.org/events/campaign-launch-party-astoria-housing-initiati
 ve/
SUMMARY:Campaign Launch Party - Astoria Housing Initiative
DESCRIPTION:April 12th 5:00pm to 7:00pm at Obelisk Beer Co in Astoria\n\nJo
 in us to add your signature to the petition to get the initiative on the N
 ovember 2026 ballot\, get involved and volunteer with the campaign\, and s
 hare your own local housing stories.\nIf you haven't heard\, the Astoria H
 ousing Initiative is a ballot measure to fund housing access and stability
  through a tax on homes that are vacant most of the year (an empty homes t
 ax).\nWe can't wait to see you there!
CATEGORIES:Public Events
LOCATION:Obelisk Beer Company\, 598 Bond St\, Astoria\, OR\, United States
X-APPLE-STRUCTURED-LOCATION;VALUE=URI;X-ADDRESS=598 Bond St\, Astoria\, OR\
 , United States;X-APPLE-RADIUS=100;X-TITLE=Obelisk Beer Company:geo:0,0
END:VEVENT
BEGIN:VTIMEZONE
TZID:America/Los_Angeles
X-LIC-LOCATION:America/Los_Angeles
BEGIN:DAYLIGHT
DTSTART:20260308T030000
TZOFFSETFROM:-0800
TZOFFSETTO:-0700
TZNAME:PDT
END:DAYLIGHT
END:VTIMEZONE
END:VCALENDAR