BEGIN:VCALENDAR
VERSION:2.0
PRODID:-//wp-events-plugin.com//7.2.3.1//EN
TZID:America/Los_Angeles
X-WR-TIMEZONE:America/Los_Angeles
BEGIN:VEVENT
UID:13956@kmun.org
DTSTART;TZID=America/Los_Angeles:20241109T180000
DTEND;TZID=America/Los_Angeles:20241109T200000
DTSTAMP:20241105T202248Z
URL:https://kmun.org/events/bingo-night-in-rosburg-wa/
SUMMARY:Bingo Night in Rosburg\, WA
DESCRIPTION:There will be a Bingo Night on Saturday\, November 9th from 6:0
 0pm to 9:00pm at the Johnson Park Community Center in Rosburg\, WA.
CATEGORIES:Public Events
LOCATION:Johnson Park Community Center\, 30 Rosburg School Rd\, Rosburg\, W
 A\, 98643\, United States
X-APPLE-STRUCTURED-LOCATION;VALUE=URI;X-ADDRESS=30 Rosburg School Rd\, Rosb
 urg\, WA\, 98643\, United States;X-APPLE-RADIUS=100;X-TITLE=Johnson Park C
 ommunity Center:geo:0,0
END:VEVENT
BEGIN:VTIMEZONE
TZID:America/Los_Angeles
X-LIC-LOCATION:America/Los_Angeles
BEGIN:STANDARD
DTSTART:20241103T010000
TZOFFSETFROM:-0700
TZOFFSETTO:-0800
TZNAME:PST
END:STANDARD
END:VTIMEZONE
END:VCALENDAR