BEGIN:VCALENDAR
VERSION:2.0
PRODID:-//wp-events-plugin.com//7.2.3.1//EN
TZID:America/Los_Angeles
X-WR-TIMEZONE:America/Los_Angeles
BEGIN:VEVENT
UID:17301@kmun.org
DTSTART;TZID=America/Los_Angeles:20260509T140000
DTEND;TZID=America/Los_Angeles:20260509T151500
DTSTAMP:20260423T161740Z
URL:https://kmun.org/events/bayside-singers-spring-concert/
SUMMARY:BaySide Singers Spring Concert
DESCRIPTION:The Peninsula Players is presenting BaySide Singers in "Blue Sk
 ies &amp\; Windy Nights\, Songs of Spring" on Saturday\, May 9th at 2:00pm
  at the River City Playhouse in Ilwaco\, WA. Free Will Donation\, Refreshm
 ents and Silent Auction.
CATEGORIES:Public Events
LOCATION:River City Playhouse\, 127 Lake Street SE\, Ilwaco\, Washington\, 
 United States
GEO:46.30792;-124.04181900000003
X-APPLE-STRUCTURED-LOCATION;VALUE=URI;X-ADDRESS=127 Lake Street SE\, Ilwaco
 \, Washington\, United States;X-APPLE-RADIUS=100;X-TITLE=River City Playho
 use:geo:46.30792,-124.04181900000003
END:VEVENT
BEGIN:VTIMEZONE
TZID:America/Los_Angeles
X-LIC-LOCATION:America/Los_Angeles
BEGIN:DAYLIGHT
DTSTART:20260308T030000
TZOFFSETFROM:-0800
TZOFFSETTO:-0700
TZNAME:PDT
END:DAYLIGHT
END:VTIMEZONE
END:VCALENDAR