BEGIN:VCALENDAR
VERSION:2.0
PRODID:-//wp-events-plugin.com//7.2.3.1//EN
TZID:America/Los_Angeles
X-WR-TIMEZONE:America/Los_Angeles
BEGIN:VEVENT
UID:17302@kmun.org
DTSTART;TZID=America/Los_Angeles:20260516T140000
DTEND;TZID=America/Los_Angeles:20260516T151500
DTSTAMP:20260422T172706Z
URL:https://kmun.org/events/bayside-singers-spring-concert-2/
SUMMARY:BaySide Singers Spring Concert
DESCRIPTION:BaySide Singers present "Blue Skies &amp\; Windy Nights\, Songs
  of Spring" at Ocean Park Lutheran Church in Ocean Park\, WA. Free will do
 nation\, refreshments and silent auction.
CATEGORIES:Public Events
LOCATION:Ocean Park Lutheran Church\, 24002 U Street\, Ocean Park\, Washing
 ton\, United States
GEO:46.475862;-124.04433699999998
X-APPLE-STRUCTURED-LOCATION;VALUE=URI;X-ADDRESS=24002 U Street\, Ocean Park
 \, Washington\, United States;X-APPLE-RADIUS=100;X-TITLE=Ocean Park Luther
 an Church:geo:46.475862,-124.04433699999998
END:VEVENT
BEGIN:VTIMEZONE
TZID:America/Los_Angeles
X-LIC-LOCATION:America/Los_Angeles
BEGIN:DAYLIGHT
DTSTART:20260308T030000
TZOFFSETFROM:-0800
TZOFFSETTO:-0700
TZNAME:PDT
END:DAYLIGHT
END:VTIMEZONE
END:VCALENDAR