BEGIN:VCALENDAR
VERSION:2.0
PRODID:-//wp-events-plugin.com//7.2.3.1//EN
TZID:America/Los_Angeles
X-WR-TIMEZONE:America/Los_Angeles
BEGIN:VEVENT
UID:13696@kmun.org
DTSTART;TZID=America/Los_Angeles:20241008T183000
DTEND;TZID=America/Los_Angeles:20241008T200000
DTSTAMP:20240828T171225Z
URL:https://kmun.org/events/auditions-for-decked-by-ginna-hoben-2024-10-08
 /
SUMMARY:Auditions for Decked! by Ginna Hoben
DESCRIPTION:Auditions for Decked! by Ginna Hoben\nDirected by Deanna Duplec
 hain\nOctober 7th &amp\; 8th at 6:30pm\nSynopsis:\nOn Christmas Eve\, Celi
 a’s only child\, Kit confesses that she would rather live with her dad a
 nd his much younger partner beginning tonight\, the couple’s wedding nig
 ht. Left alone feeling powerless and enraged\, Celia turns to alcohol and 
 pills to escape her pain. Then her eccentric sister Louise shows up to hel
 p her out of her despair. In a drug-induced state\, (is she dead? or just 
 tripping?) Celia wakes up in an alternate dimension where the sisters revi
 ew her past\, present\, and potential future. With a nod to the classics\,
  It’s a Wonderful Life and A Christmas Carol\, this all-female seriocomi
 c play explores themes of letting go and moving on.\nAvailable roles:\nCEL
 IA - Mid 40’s - early 50’s.\nKIT - Celia’s daughter. Just over fourt
 een. Then\, later\, between the ages of 25 and 30.\nLOU - Celia’s sister
 . Born two years after Celia. Looks young. Guileless… most of the time.\
 nKELSIE - Kit’s new stepmom. Late 20’s or early 30’s.\nWhat to expec
 t:\nAuditions will consist of readings from the script. Sides are availabl
 e upon request. No memorization is required in advance.\nActors should arr
 ive on time\, and bring a calendar of any conflicts between now and Decemb
 er 21st. Headshots and resumes are welcome\, but not required. Rehearsals 
 will be scheduled based on the actors' availability and may include days\,
  evenings\, and weekends.\nIf you wish to audition\, but are unable to att
 end the scheduled dates\, please email info@thetenfifteentheater.com to sc
 hedule another time.
CATEGORIES:Public Events
LOCATION:The Ten Fifteen Theater\, 1015 Commercial Street\, Astoria\, OR\, 
 97103\, United States
X-APPLE-STRUCTURED-LOCATION;VALUE=URI;X-ADDRESS=1015 Commercial Street\, As
 toria\, OR\, 97103\, United States;X-APPLE-RADIUS=100;X-TITLE=The Ten Fift
 een Theater:geo:0,0
END:VEVENT
BEGIN:VTIMEZONE
TZID:America/Los_Angeles
X-LIC-LOCATION:America/Los_Angeles
BEGIN:DAYLIGHT
DTSTART:20240310T030000
TZOFFSETFROM:-0800
TZOFFSETTO:-0700
TZNAME:PDT
END:DAYLIGHT
END:VTIMEZONE
END:VCALENDAR