BEGIN:VCALENDAR
VERSION:2.0
PRODID:-//wp-events-plugin.com//7.2.3.1//EN
TZID:America/Los_Angeles
X-WR-TIMEZONE:America/Los_Angeles
BEGIN:VEVENT
UID:17094@kmun.org
DTSTART;TZID=America/Los_Angeles:20260319T193000
DTEND;TZID=America/Los_Angeles:20260320T203000
DTSTAMP:20260311T192806Z
URL:https://kmun.org/events/astoria-readers-theater-presents-outside-mulli
 ngar/
SUMMARY:Astoria Readers Theater Presents - Outside Mullingar
DESCRIPTION:Astoria Readers Theater directed by Susi Brown will present "Ou
 tside Mullingar" \, an Irish play by John Patrick Shanley on March 19th an
 d 20th at KALA\, 1017 Marine Drive\, Astoria OR and at the Coaster Theatre
 \, 108 N. Hemlock\, Cannon Beach on March 25th and 26th\, all performances
  begin at 7:30pm. Tickets available online at www.kalaastoria.com or www.c
 oastertheatre.com
CATEGORIES:Public Events
LOCATION:KALA\, 1017 Marine Drive \, Astoria\, Oregon\, 97103\, United Stat
 es
GEO:46.1897359;-123.83226509999997
X-APPLE-STRUCTURED-LOCATION;VALUE=URI;X-ADDRESS=1017 Marine Drive \, Astori
 a\, Oregon\, 97103\, United States;X-APPLE-RADIUS=100;X-TITLE=KALA:geo:46.
 1897359,-123.83226509999997
END:VEVENT
BEGIN:VTIMEZONE
TZID:America/Los_Angeles
X-LIC-LOCATION:America/Los_Angeles
BEGIN:DAYLIGHT
DTSTART:20260308T030000
TZOFFSETFROM:-0800
TZOFFSETTO:-0700
TZNAME:PDT
END:DAYLIGHT
END:VTIMEZONE
END:VCALENDAR