BEGIN:VCALENDAR
VERSION:2.0
PRODID:-//wp-events-plugin.com//7.2.3.1//EN
TZID:America/Los_Angeles
X-WR-TIMEZONE:America/Los_Angeles
BEGIN:VEVENT
UID:14837@kmun.org
DTSTART;TZID=America/Los_Angeles:20250314T170000
DTEND;TZID=America/Los_Angeles:20250314T180000
DTSTAMP:20250219T182546Z
URL:https://kmun.org/events/astoria-oregon-post-12-st-patricks-day-dinner/
SUMMARY:Astoria Oregon Post 12 St. Patricks Day Dinner
DESCRIPTION:Please join us for a fantastic St. Patrick's Day Dinner at the 
 Astoria American Legion!\nDinner will be Corned Beef\, Cabbage\, Potatoes\
 , Bread\, and dessert for $15!\nThis is a fundraiser and open to the publi
 c.\nDinner will start at 5:00pm and will end when the food is gone. You ca
 n buy the tickets at the American Legion bar.\nAfter Dinner\, Michael's Ka
 raoke will be going until 10:00pm! Pick your favorite songs\, grab the mic
 \, and have some fun!\n
ATTACH;FMTTYPE=image/jpeg:https://kmun.org/wp-content/uploads/2025/02/2025
 -Post-12-st-patricks-day-dinner.png
CATEGORIES:Public Events
LOCATION:American Legion Astoria\, 1132 Exchange St\, Astoria\, Oregon\, 97
 103\, United States
GEO:46.1876749;-123.83151980000002
X-APPLE-STRUCTURED-LOCATION;VALUE=URI;X-ADDRESS=1132 Exchange St\, Astoria\
 , Oregon\, 97103\, United States;X-APPLE-RADIUS=100;X-TITLE=American Legio
 n Astoria:geo:46.1876749,-123.83151980000002
END:VEVENT
BEGIN:VTIMEZONE
TZID:America/Los_Angeles
X-LIC-LOCATION:America/Los_Angeles
BEGIN:DAYLIGHT
DTSTART:20250309T030000
TZOFFSETFROM:-0800
TZOFFSETTO:-0700
TZNAME:PDT
END:DAYLIGHT
END:VTIMEZONE
END:VCALENDAR