BEGIN:VCALENDAR
VERSION:2.0
PRODID:-//wp-events-plugin.com//7.2.3.1//EN
TZID:America/Los_Angeles
X-WR-TIMEZONE:America/Los_Angeles
BEGIN:VEVENT
UID:17310@kmun.org
DTSTART;TZID=America/Los_Angeles:20260508T190000
DTEND;TZID=America/Los_Angeles:20260508T203000
DTSTAMP:20260422T170222Z
URL:https://kmun.org/events/artists-for-peace-concert/
SUMMARY:Artists for Peace Concert
DESCRIPTION:The concert features Linda Nicole Blair singing and playing her
  original compositions from her albums: "Another Girl"\, 'With Any Luck"\,
  "By Your Side"\, "Songs for Unsung Women" and others. Her upbeat music ce
 lebrates peace\, freedom\, love\, and joy. Her style ranges from Americana
  folk and root music to flat out rock. There is no charge for the concert 
 but donations are appreciated.
CATEGORIES:Public Events
LOCATION:Grace Episcopal Church\, 1545 Franklin Ave.\, Astoria\, OR\, 97103
 \, United States
GEO:46.186963;-123.82617299999998
X-APPLE-STRUCTURED-LOCATION;VALUE=URI;X-ADDRESS=1545 Franklin Ave.\, Astori
 a\, OR\, 97103\, United States;X-APPLE-RADIUS=100;X-TITLE=Grace Episcopal 
 Church:geo:46.186963,-123.82617299999998
END:VEVENT
BEGIN:VTIMEZONE
TZID:America/Los_Angeles
X-LIC-LOCATION:America/Los_Angeles
BEGIN:DAYLIGHT
DTSTART:20260308T030000
TZOFFSETFROM:-0800
TZOFFSETTO:-0700
TZNAME:PDT
END:DAYLIGHT
END:VTIMEZONE
END:VCALENDAR