BEGIN:VCALENDAR
VERSION:2.0
PRODID:-//wp-events-plugin.com//7.2.3.1//EN
TZID:America/Los_Angeles
X-WR-TIMEZONE:America/Los_Angeles
BEGIN:VEVENT
UID:17313@kmun.org
DTSTART;TZID=America/Los_Angeles:20260509T120000
DTEND;TZID=America/Los_Angeles:20260509T163000
DTSTAMP:20260422T170812Z
URL:https://kmun.org/events/artists-against-fascism/
SUMMARY:Artists Against Fascism
DESCRIPTION:The exhibit of artwork\, poetry\, and music\, "Artists Against 
 Fascism" will hold an opening reception on Saturday\, May 9\, 2026 at Asto
 ria Art Loft\, from 12:00pm to 4:30pm. The exhibit will continue through J
 une 10th. Concerned over events carried out by the leadership of the feder
 al government\, local artists and concerned citizens have formed a group o
 n the North Oregon Coast called "Artists Against Fascism". Sixty-seven art
 ists have submitted artwork\, poetry\, and music protesting recent events.
  Noted caricature artist \, Allen Schmertzler\, will be demonstrating his 
 art during the opening reception.
CATEGORIES:Public Events
LOCATION:Astoria Art Loft\, 106 Third Street\, Astoria\, OR\, 97103\, Unite
 d States
X-APPLE-STRUCTURED-LOCATION;VALUE=URI;X-ADDRESS=106 Third Street\, Astoria\
 , OR\, 97103\, United States;X-APPLE-RADIUS=100;X-TITLE=Astoria Art Loft:g
 eo:0,0
END:VEVENT
BEGIN:VTIMEZONE
TZID:America/Los_Angeles
X-LIC-LOCATION:America/Los_Angeles
BEGIN:DAYLIGHT
DTSTART:20260308T030000
TZOFFSETFROM:-0800
TZOFFSETTO:-0700
TZNAME:PDT
END:DAYLIGHT
END:VTIMEZONE
END:VCALENDAR