BEGIN:VCALENDAR
VERSION:2.0
PRODID:-//wp-events-plugin.com//7.2.3.1//EN
TZID:America/Los_Angeles
X-WR-TIMEZONE:America/Los_Angeles
BEGIN:VEVENT
UID:17111@kmun.org
DTSTART;TZID=America/Los_Angeles:20260403T193000
DTEND;TZID=America/Los_Angeles:20260403T213000
DTSTAMP:20260318T170941Z
URL:https://kmun.org/events/april-art-movie-night-at-pier-11-studio/
SUMMARY:April Art Movie Night at Pier 11 Studio
DESCRIPTION:The April Art Movie Night at Pier 11 Studio is "Secret Mall Apa
 rtment: the hilariously unbelievable true story behind the urban legend ab
 out a group of friends who created a secret apartment in the busy Providen
 ce Place Mall in the early 2000s.\nApril 3rd at 7:30pm.\nThis event is FRE
 E.\nDoors at 7:00pm.\nPlease bring a favorite beverage or snack of your ch
 oice to enjoy while watching the film.\nSeating is limited.\nPlease reserv
 e your spot for Art Movie Night on the Pier 11 website at the Events link.
CATEGORIES:Public Events
LOCATION:Pier 11 Studio\, 77 11th St. Suite A\, Astoria\, OR\, 97103\, Unit
 ed States
X-APPLE-STRUCTURED-LOCATION;VALUE=URI;X-ADDRESS=77 11th St. Suite A\, Astor
 ia\, OR\, 97103\, United States;X-APPLE-RADIUS=100;X-TITLE=Pier 11 Studio:
 geo:0,0
END:VEVENT
BEGIN:VTIMEZONE
TZID:America/Los_Angeles
X-LIC-LOCATION:America/Los_Angeles
BEGIN:DAYLIGHT
DTSTART:20260308T030000
TZOFFSETFROM:-0800
TZOFFSETTO:-0700
TZNAME:PDT
END:DAYLIGHT
END:VTIMEZONE
END:VCALENDAR