BEGIN:VCALENDAR
VERSION:2.0
PRODID:-//wp-events-plugin.com//7.2.3.1//EN
TZID:America/Los_Angeles
X-WR-TIMEZONE:America/Los_Angeles
BEGIN:VEVENT
UID:14891@kmun.org
DTSTART;TZID=America/Los_Angeles:20250511T190000
DTEND;TZID=America/Los_Angeles:20250511T220000
DTSTAMP:20250226T182456Z
URL:https://kmun.org/events/an-evening-with-david-sedaris-at-the-liberty-t
 heater/
SUMMARY:An Evening with David Sedaris at the Liberty Theater
DESCRIPTION:On Sunday\, May 11th the Liberty Theatre is proud to welcome Da
 vid Sedaris back to our community! With sardonic wit and incisive social c
 ritiques\, David Sedaris has become one of America’s pre-eminent humor w
 riters. The great skill with which he slices through cultural euphemisms a
 nd political correctness proves that Sedaris is a master of satire and one
  of the most observant writers addressing the human condition today.\nDavi
 d Sedaris is the author of Barrel Fever and Holidays on Ice\, as well a
 s collections of personal essays\, Naked\, Me Talk Pretty One Day\, Dre
 ss Your Family in Corduroy and Denim\, When You Are Engulfed in Flames\,
  and his most recent book\, Let’s Explore Diabetes with Owls\, each of
  which became an immediate bestseller. The audio version of Let's Explore
  Diabetes with Owls is a 56th Annual GRAMMY Awards Nominee for Best Spoke
 n Word Album. He is the author of the NYT-bestselling collection of fable
 s entitled Squirrel Seeks Chipmunk: A Modest Bestiary (with illustration
 s by Ian Falconer). He was also the editor of Children Playing Before a S
 tatue of Hercules: An Anthology of Outstanding Stories. Sedaris’ pieces 
 appear regularly in The New Yorker and have twice been included in “Th
 e Best American Essays.” There are over ten million copies of his books 
 in print and they have been translated into 25 languages.\nMr. Sedaris is 
 known for never repeating a show!  You will hear different stories than t
 he last performance.\nWe will have books for sale courtesy of Lucy's Books
 \, with a signing from Mr. Sedaris after the reading!  \nDoors open at 6
 :00pm. No Photography or Concessions at this event.\n
ATTACH;FMTTYPE=image/jpeg:https://kmun.org/wp-content/uploads/2025/02/Davi
 d-Sedaris-1.png
CATEGORIES:Public Events
END:VEVENT
BEGIN:VTIMEZONE
TZID:America/Los_Angeles
X-LIC-LOCATION:America/Los_Angeles
BEGIN:DAYLIGHT
DTSTART:20250309T030000
TZOFFSETFROM:-0800
TZOFFSETTO:-0700
TZNAME:PDT
END:DAYLIGHT
END:VTIMEZONE
END:VCALENDAR