BEGIN:VCALENDAR
VERSION:2.0
PRODID:-//wp-events-plugin.com//7.2.3.1//EN
TZID:America/Los_Angeles
X-WR-TIMEZONE:America/Los_Angeles
BEGIN:VEVENT
UID:13813@kmun.org
DTSTART;TZID=America/Los_Angeles:20241019T200000
DTEND;TZID=America/Los_Angeles:20241019T213000
DTSTAMP:20241002T185352Z
URL:https://kmun.org/events/amos-heart-live-at-the-souwester-lodge/
SUMMARY:Amos Heart Live at The Sou’wester Lodge
DESCRIPTION:Amos Heart Live at The Sou’wester Lodge\n10/19/2024 | 8:00pm\
 nFree &amp\; open to the public!\nhttps://amosheart.bandcamp.com/album/the
 -house-on-the-hill\nAmos Heart is a songwriter from Portland\, OR now base
 d in the city of Eugene\, OR. Collaborating with modular synth artist Ann 
 Annie\, Heart and Annie created The House on the Hill\, a personal look at
  the life of Heart.\n
ATTACH;FMTTYPE=image/jpeg:https://kmun.org/wp-content/uploads/2024/10/Scre
 enshot-2024-10-01-at-8.42.00 AM.png
CATEGORIES:Public Events
LOCATION:The Sou'wester Lodge\, 3728 J Place\, Seaview\, WA\, 98644\, Unite
 d States
GEO:46.3300488;-124.05707259999997
X-APPLE-STRUCTURED-LOCATION;VALUE=URI;X-ADDRESS=3728 J Place\, Seaview\, WA
 \, 98644\, United States;X-APPLE-RADIUS=100;X-TITLE=The Sou'wester Lodge:g
 eo:46.3300488,-124.05707259999997
END:VEVENT
BEGIN:VTIMEZONE
TZID:America/Los_Angeles
X-LIC-LOCATION:America/Los_Angeles
BEGIN:DAYLIGHT
DTSTART:20240310T030000
TZOFFSETFROM:-0800
TZOFFSETTO:-0700
TZNAME:PDT
END:DAYLIGHT
END:VTIMEZONE
END:VCALENDAR