BEGIN:VCALENDAR
VERSION:2.0
PRODID:-//wp-events-plugin.com//7.2.3.1//EN
TZID:America/Los_Angeles
X-WR-TIMEZONE:America/Los_Angeles
BEGIN:VEVENT
UID:16009@kmun.org
DTSTART;TZID=America/Los_Angeles:20251107T183000
DTEND;TZID=America/Los_Angeles:20251107T210000
DTSTAMP:20251016T170001Z
URL:https://kmun.org/events/ahs-presents-you-cant-take-it-with-you/
SUMMARY:AHS Presents "You Can't Take It With You"
DESCRIPTION:Astoria High School Theatre presents "You Can't Take It With Yo
 u." Performances take place at 6:30pm on November 7th\, 13th\, and 14th\, 
 with Saturday matinees at 2:00pm on November 8th and 15th. Doors open 30 m
 inutes prior to showtime.\nIn "You Can't Take It With You\," a Pulitzer pr
 ize-winning play by George S. Kaufman and Edna Ferber\, a snake enthusiast
 \, a pyrotechnician\, a confectioner\, and a xylophonist are among the man
 y quirky members of the Sycamore family who live in the perfect artists' h
 aven\, flooded by creative projects. Anyone with a passion to create is we
 lcome in their lively home. However\, Alice\, the youngest daughter\, seem
 s to have bypassed the creative madness and sees her family as forgetful\,
  erratic\, and distracted. She fears her family's absurdities will ruin he
 r chances at a "normal" life\, especially as she finds herself falling for
  the son of a prominent Wall Street businessman. Whimsy and tradition coll
 ide in "You Can’t Take It With You\," a madcap comedy that asks us to qu
 estion the conventional and embrace the mayhem of an unusual family.\nTick
 ets:\n$15 Adults\n$5 Students\, Kids\, Seniors 65+\nBuy tickets at the doo
 r or online: www.myschoolbucks.com/ver2/prdembd?ref=ZZJ6E1L9FH0VQ9C_ZZ64YZ
 BKG11RUET
CATEGORIES:Public Events
LOCATION:Astoria High School Auditorium\, 1001 W Marine Dr\, Astoria\, Oreg
 on\, 97103\, United States
GEO:46.176225;-123.84952299999998
X-APPLE-STRUCTURED-LOCATION;VALUE=URI;X-ADDRESS=1001 W Marine Dr\, Astoria\
 , Oregon\, 97103\, United States;X-APPLE-RADIUS=100;X-TITLE=Astoria High S
 chool Auditorium:geo:46.176225,-123.84952299999998
END:VEVENT
BEGIN:VTIMEZONE
TZID:America/Los_Angeles
X-LIC-LOCATION:America/Los_Angeles
BEGIN:STANDARD
DTSTART:20251102T010000
TZOFFSETFROM:-0700
TZOFFSETTO:-0800
TZNAME:PST
END:STANDARD
END:VTIMEZONE
END:VCALENDAR