BEGIN:VCALENDAR
VERSION:2.0
PRODID:-//wp-events-plugin.com//7.2.3.1//EN
TZID:America/Los_Angeles
X-WR-TIMEZONE:America/Los_Angeles
BEGIN:VEVENT
UID:15115@kmun.org
DTSTART;TZID=America/Los_Angeles:20250419T160000
DTEND;TZID=America/Los_Angeles:20250419T173000
DTSTAMP:20250416T175022Z
URL:https://kmun.org/events/against-your-departure-poetry-reading-and-broa
 dside-launch/
SUMMARY:"Against Your Departure" Poetry Reading and Broadside Launch
DESCRIPTION:On April 19\, 2025\, the C.C. Stern Type Foundry will be hostin
 g a poetry reading and launch of a new letterpress broadside\, “Against 
 Your Departure\,” the sixth print in their Pacific Northwest Poets Laure
 ate Broadside series. The event will be held at the Longview Public Librar
 y from 4:00-5:30pm.\nThe new broadside is illustrated and printed by Jessi
 ca Spring (Springtide Press in Tacoma\, WA) and features a new poem by Was
 hington Poet Laureate Emerita Elizabeth Austen. The event\, which features
  a talk and reading by Elizabeth Austen\, is free and open to the public. 
 An exhibit of poetry broadsides from Peasandcues Press and the C.C. Stern 
 Type Foundry can be seen in the Longview Public Library's Koth Memorial Ga
 llery from April 3-30\, 2025.
CATEGORIES:Public Events
LOCATION:Longview Public Library\, 1600 Louisiana St\, Longview\, WA\, 9863
 2\, United States
X-APPLE-STRUCTURED-LOCATION;VALUE=URI;X-ADDRESS=1600 Louisiana St\, Longvie
 w\, WA\, 98632\, United States;X-APPLE-RADIUS=100;X-TITLE=Longview Public 
 Library:geo:0,0
END:VEVENT
BEGIN:VTIMEZONE
TZID:America/Los_Angeles
X-LIC-LOCATION:America/Los_Angeles
BEGIN:DAYLIGHT
DTSTART:20250309T030000
TZOFFSETFROM:-0800
TZOFFSETTO:-0700
TZNAME:PDT
END:DAYLIGHT
END:VTIMEZONE
END:VCALENDAR