BEGIN:VCALENDAR
VERSION:2.0
PRODID:-//wp-events-plugin.com//7.2.3.1//EN
TZID:America/Los_Angeles
X-WR-TIMEZONE:America/Los_Angeles
BEGIN:VEVENT
UID:17280@kmun.org
DTSTART;TZID=America/Los_Angeles:20260502T160000
DTEND;TZID=America/Los_Angeles:20260502T160000
DTSTAMP:20260417T163248Z
URL:https://kmun.org/events/a-stroll-through-time-mothers-day-tea-and-vint
 age-fashion-show/
SUMMARY:A Stroll Through Time - Mother's Day Tea and Vintage Fashion Show
DESCRIPTION:First Presbyterian is having a Mothers Day Tea and fashion show
  fundraiser featuring authentic gowns from the film Titanic. There will be
  a Cake Walk\, Silent Auction\, Door Prizes and a Best Hat Contest. This i
 s a fundraiser to help maintain the Presbyterian Church's historic buildin
 gs that house two churches\, a music conservatory\, a dance academy\, and 
 regional food bank. Tickets are $20 and available through Eventbrite.com
CATEGORIES:Public Events
LOCATION:First Presbyterian Church\, 1103 Grand Avenue\, Astoria \, Oregon\
 , 97103\, United States
GEO:46.1862466;-123.8317935
X-APPLE-STRUCTURED-LOCATION;VALUE=URI;X-ADDRESS=1103 Grand Avenue\, Astoria
  \, Oregon\, 97103\, United States;X-APPLE-RADIUS=100;X-TITLE=First Presby
 terian Church:geo:46.1862466,-123.8317935
END:VEVENT
BEGIN:VTIMEZONE
TZID:America/Los_Angeles
X-LIC-LOCATION:America/Los_Angeles
BEGIN:DAYLIGHT
DTSTART:20260308T030000
TZOFFSETFROM:-0800
TZOFFSETTO:-0700
TZNAME:PDT
END:DAYLIGHT
END:VTIMEZONE
END:VCALENDAR